BEGIN:VCALENDAR
VERSION:2.0
PRODID:-//eventon.com NONSGML v1.0//EN
CALSCALE:GREGORIAN
METHOD:PUBLISH
BEGIN:VEVENT
UID:69e77cf6a6fa0
DTSTAMP:20260421T133446Z
DTSTART:20250630T160000Z
DTEND:20250630T235900Z
LOCATION:
SUMMARY:Opernfahrt: Die Schöpfung
DESCRIPTION:Oratorium von Joseph Haydn\,  in einer Inszenierung von La Fura
  dels Baus Montag\,  30. Juni 2025Cankar Center Laibach/73. Laibach Festiva
 l Das Laibach-Festival zeigt Haydns Meisteroratorium in einer bildgewaltige
 n Inszenierung der katalanischen Theatergruppe La Fura des Baus. Abfahrt: K
 lagenfurt Minimundus\,  Montag\,  30. Juni 2025\,  16 Uhr\,  Rückkehr um c
 a. 24:00 Uhr.Kosten:[..]\nhttps://bildungswerk-ktn.at/events/opernfahrt-die
 -schoepfung/
URL:https://bildungswerk-ktn.at/events/opernfahrt-die-schoepfung/
END:VEVENT
END:VCALENDAR