BEGIN:VCALENDAR
VERSION:2.0
PRODID:-//eventon.com NONSGML v1.0//EN
CALSCALE:GREGORIAN
METHOD:PUBLISH
BEGIN:VEVENT
UID:69e74f77c561a
DTSTAMP:20260421T102039Z
DTSTART:20250306T140000Z
DTEND:20250306T170000Z
LOCATION:
SUMMARY:Smartphone sicher nutzen: Ein Workshop für digitale Senior:innen
DESCRIPTION:Donnerstag\,  06. März 2025 14.00 - 17.00 UhrKarolinger SaalFe
 ldkirchnerstrasse 2\,  9062 Moosburg Der Workshop bietet Ihnen die Möglich
 keit\,  Ihren Umgang mit dem eigenen Smartphones zu verbessern. Zunächst w
 erden grundlegende Funktionen von Smartphones erklärt\,  wie das Entsperre
 n\,  die Navigation durch Menüs und das Verwalten von Apps. Dann folgt ein
 e ausführliche Einführung[..]\nhttps://bildungswerk-ktn.at/events/smartph
 one-sicher-nutzen-moosburg-2/
URL:https://bildungswerk-ktn.at/events/smartphone-sicher-nutzen-moosburg-2/
END:VEVENT
END:VCALENDAR