BEGIN:VCALENDAR
VERSION:2.0
PRODID:-//eventon.com NONSGML v1.0//EN
CALSCALE:GREGORIAN
METHOD:PUBLISH
BEGIN:VEVENT
UID:69e77c856cd5a
DTSTAMP:20260421T133253Z
DTSTART:20250317
DTEND:20250318
LOCATION:
SUMMARY:Namensprojekt in Bad Kleinkirchheim
DESCRIPTION:Offene Ausstellung: Montag\,  17. bis Freitag\,  21. März 2025
  von 8.00 bis 12.00 Uhrsowie am Montag und Donnerstag auch von 13.00 bis 16
 .00 UhrNamenswerkstatt: Freitag\,  21. März 2025 von 14.00 bis 17.00 Uhrj
 eweils im Sitzungssaal der Gemeinde Bad Kleinkirchheim Das Kärntner Bildun
 gswerk setzt in Zusammenarbeit mit dem Land Kärnten (Abteilung 3\, [..]\nh
 ttps://bildungswerk-ktn.at/events/namensprojekt-in-bad-kleinkirchheim/
URL:https://bildungswerk-ktn.at/events/namensprojekt-in-bad-kleinkirchheim/
END:VEVENT
END:VCALENDAR