BEGIN:VCALENDAR
VERSION:2.0
PRODID:-//eventon.com NONSGML v1.0//EN
CALSCALE:GREGORIAN
METHOD:PUBLISH
BEGIN:VEVENT
UID:69e769b20a556
DTSTAMP:20260421T121234Z
DTSTART:20250314T160000Z
DTEND:20250314T190000Z
LOCATION:
SUMMARY:Repair Café Viktring
DESCRIPTION:Was tun mit einem wackeligen Hocker oder einem defekten Toaster
 ?&nbsp;Gemeinsam&nbsp;mit Experten*innen reparieren\,  statt wegwerfen! Fre
 itag\,  14. März\,  16 - 19 UhrGemeindezentrum Viktring1. Stock REPAIR CAF
 É bedeutet…gemeinsam kaputte Dinge reparieren\,  kompetente Hilfestellun
 g\,  Begegnung und einander inspirieren! Rückfragen: office@initiativesvik
 tring.athttps://www.initiativesviktring.at\nhttps://bildungswerk-ktn.at/eve
 nts/repair-cafe-viktring-3/
URL:https://bildungswerk-ktn.at/events/repair-cafe-viktring-3/
END:VEVENT
END:VCALENDAR