BEGIN:VCALENDAR
VERSION:2.0
PRODID:-//eventon.com NONSGML v1.0//EN
CALSCALE:GREGORIAN
METHOD:PUBLISH
BEGIN:VEVENT
UID:69e74fe5b7781
DTSTAMP:20260421T102229Z
DTSTART:20241118
DTEND:20241119
LOCATION:
SUMMARY:Namensprojekt in Stall im Mölltal (Bezirk Spittal)
DESCRIPTION:Gemeinde Stall im Mölltal Offene Ausstellung: Montag\,  18. No
 vember bis Freitag 22. November 2024\,  7.30 12.00 Uhr u.13.00 – 16.30 Uh
 rNamenswerkstatt:  Samstag\, 23. November 2024\,  14.00 bis 17.00 UhrSitzu
 ngssaal Gemeinde Stall im Mölltal Das Kärntner Bildungswerk setzt in Zusa
 mmenarbeit mit dem Land Kärnten (Abteilung 3\,  Gemeinden\,  Raumordnung u
 nd Katastrophenschutz) das Namensprojekt\, [..]\nhttps://bildungswerk-ktn.a
 t/events/namensprojekt-in-stall-im-moelltal-bezirk-spittal/
URL:https://bildungswerk-ktn.at/events/namensprojekt-in-stall-im-moelltal-bezirk-spittal/
END:VEVENT
END:VCALENDAR