BEGIN:VCALENDAR
VERSION:2.0
PRODID:-//eventon.com NONSGML v1.0//EN
CALSCALE:GREGORIAN
METHOD:PUBLISH
BEGIN:VEVENT
UID:69e74c803891c
DTSTAMP:20260421T100800Z
DTSTART:20241108T160000Z
DTEND:20241108T183000Z
LOCATION:
SUMMARY:Vortrag und Gartenwerkstatt am PUKK-Platz
DESCRIPTION:Freitag\,  08. November 202416 - 18.30 UhrPUKK-Platz Kötzing V
 ortrag Heimische Wildsträucher und Staudenbeete locken Vögel in den Garte
 nEin vogelfreundlicher Garten zeichnet sich durch vielfältige\,  strukturr
 eiche und pestizidfreie Grünflflächen\,  die Nahrung und Unterschlupf bie
 ten\,  aus. Heimisches Wildobst sowie Körner und Samen aus den Fruchtstän
 den von Stauden und Sommerblumen fressen unsere gefifiederten[..]\nhttps://
 bildungswerk-ktn.at/events/vortrag-und-gartenwerkstatt-am-pukk-platz/
URL:https://bildungswerk-ktn.at/events/vortrag-und-gartenwerkstatt-am-pukk-platz/
END:VEVENT
END:VCALENDAR