BEGIN:VCALENDAR
VERSION:2.0
PRODID:-//eventon.com NONSGML v1.0//EN
CALSCALE:GREGORIAN
METHOD:PUBLISH
BEGIN:VEVENT
UID:69e74aa652136
DTSTAMP:20260421T100006Z
DTSTART:20240603T183000Z
DTEND:20240603T200000Z
LOCATION:
SUMMARY:Mitgliedernachwuchs für Vereine
DESCRIPTION:Ohne freiwilliges Engagement wäre unser gesellschaftliches Leb
 en weit weniger bunt. Doch alle Vereinsfunktionär:innen wissen: Es ist imm
 er wieder aufs Neue eine Herausforderung\,  einen Verein lebendig zu halten
 . Eine zentrale Frage\,  die viele Vereine beschäftigt ist: Wie schaffen w
 ir es\,  mehr Mitglieder für uns zu gewinnen? In diesem Online-Vortrag wid
 men wir[..]\nhttps://bildungswerk-ktn.at/events/mitgliedernachwuchs-im-vere
 in/
URL:https://bildungswerk-ktn.at/events/mitgliedernachwuchs-im-verein/
END:VEVENT
END:VCALENDAR