BEGIN:VCALENDAR
VERSION:2.0
PRODID:-//eventon.com NONSGML v1.0//EN
CALSCALE:GREGORIAN
METHOD:PUBLISH
BEGIN:VEVENT
UID:69e74a2271a4d
DTSTAMP:20260421T095754Z
DTSTART:20240411T170000Z
DTEND:20240411T180000Z
LOCATION:
SUMMARY:Aussprechen hilft!
DESCRIPTION:Meine persönlichen Anliegen als Vereinsmitglied/-funktionär:i
 n Nicht immer läuft im Vereinsalltag alles rund. Manchmal kommt es zu zwis
 chenmenschlichen Konflikten\,  Überforderung oder sogar Ärger und Frust. 
 In diesem Workshop erarbeiten Sie unter dem Motto „Aussprechen hilft“ i
 m geschützten Raum und unter professioneller Anleitung Ihre ganz persönli
 chen Themen rund um die Vereinsarbeit. Ziel[..]\nhttps://bildungswerk-ktn.a
 t/events/aussprechen-hilft-2/
URL:https://bildungswerk-ktn.at/events/aussprechen-hilft-2/
END:VEVENT
END:VCALENDAR