BEGIN:VCALENDAR
VERSION:2.0
PRODID:-//eventon.com NONSGML v1.0//EN
CALSCALE:GREGORIAN
METHOD:PUBLISH
BEGIN:VEVENT
UID:69e74a67e6ff9
DTSTAMP:20260421T095903Z
DTSTART:20240314T173000Z
DTEND:20240314T190000Z
LOCATION:
SUMMARY:Vereinsleben im Rausch
DESCRIPTION:Laut Statista 2023 lag der Pro-Kopf-Konsum von Bier in Österre
 ich bei über 100 Litern pro Jahr. Sind das alarmierende Zahlen\,  oder ist
  das doch völlig normal? Zu einem richtigen Vereinsfest gehört auch ein g
 utes Bier\,  oder? Der Vortrag zielt darauf ab\,  das Bewusstsein für Such
 tproblematiken zu stärken\,  Präventionsstrategien zu entwickeln\, [..]\n
 https://bildungswerk-ktn.at/events/vereinsleben-im-rausch-2/
URL:https://bildungswerk-ktn.at/events/vereinsleben-im-rausch-2/
END:VEVENT
END:VCALENDAR