BEGIN:VCALENDAR
VERSION:2.0
PRODID:-//eventon.com NONSGML v1.0//EN
CALSCALE:GREGORIAN
METHOD:PUBLISH
BEGIN:VEVENT
UID:69e940f23696e
DTSTAMP:20260422T214314Z
DTSTART:20240302T090000Z
DTEND:20240302T120000Z
LOCATION:
SUMMARY:Repair Café Wolfsberg
DESCRIPTION:Was tun mit einem wackeligen Hocker oder einem defekten Toaster
 ?&nbsp;Gemeinsam&nbsp;mit Experten*innen reparieren\,  statt wegwerfen! Sam
 stag\, 02. März 2024\,  09:00 – 12:00 UhrJugendzentrum WolfsbergKirchbic
 hlstraße 2a9400 Wolfsberg REPAIR CAFÉ bedeutet…gemeinsam kaputte Dinge 
 reparieren\,  kompetente Hilfestellung\,  Begegnung und einander inspiriere
 n! MIT DABEI:&nbsp;ErklärBarHier werden Erklärungen zu Ihren Fragen zur d
 igitalen Welt gefunden!&nbsp;\nhttps://bildungswerk-ktn.at/events/repair-ca
 fe-wolfsberg-3/
URL:https://bildungswerk-ktn.at/events/repair-cafe-wolfsberg-3/
END:VEVENT
END:VCALENDAR