BEGIN:VCALENDAR
VERSION:2.0
PRODID:-//eventon.com NONSGML v1.0//EN
CALSCALE:GREGORIAN
METHOD:PUBLISH
BEGIN:VEVENT
UID:69e74d756adaf
DTSTAMP:20260421T101205Z
DTSTART:20240123
DTEND:20240124
LOCATION:
SUMMARY:Namensprojekt Althofen (Bezirk St. Veit)
DESCRIPTION:Offene Ausstellung: 23. - 25. Jänner 2024 | zu den Amtszeiten 
 | Gemeindeamt AlthofenNamenswerkstatt: 25. Jänner 2024 | 17 Uhr | Gemeinde
 amt Althofen Das Kärntner Bildungswerk setzt in Zusammenarbeit mit dem Lan
 d Kärnten (Abteilung 3\,  Gemeinden\,  Raumordnung und Katastrophenschutz)
  das Namensprojekt\,  welches bereits im Bezirk Völkermarkt den Bezirken&n
 bsp;Klagenfurt-Land&nbsp;und&nbsp;Villach-Land durchgeführt wurde\, [..]\n
 https://bildungswerk-ktn.at/events/namensprojekt-althofen-bezirk-st-veit/
URL:https://bildungswerk-ktn.at/events/namensprojekt-althofen-bezirk-st-veit/
END:VEVENT
END:VCALENDAR