BEGIN:VCALENDAR
VERSION:2.0
PRODID:-//eventon.com NONSGML v1.0//EN
CALSCALE:GREGORIAN
METHOD:PUBLISH
BEGIN:VEVENT
UID:69e781e87680a
DTSTAMP:20260421T135552Z
DTSTART:20240110
DTEND:20240111
LOCATION:
SUMMARY:Namensprojekt Metnitz (Bezirk St. Veit)
DESCRIPTION:Offene Ausstellung: 10. – 17. Jänner 2023 | zu den Amtszeite
 n | Amthaus MetnitzNamenswerkstatt: 17. Jänner 2023 | 17 Uhr | Amtshaus Me
 tnitz Das Kärntner Bildungswerk setzt in Zusammenarbeit mit dem Land Kärn
 ten (Abteilung 3\,  Gemeinden\,  Raumordnung und Katastrophenschutz) das Na
 mensprojekt\,  welches bereits im Bezirk Völkermarkt den Bezirken&nbsp;Kla
 genfurt-Land&nbsp;und&nbsp;Villach-Land durchgeführt wurde\, [..]\nhttps:/
 /bildungswerk-ktn.at/events/namensprojekt-metnitz-bezirk-st-veit/
URL:https://bildungswerk-ktn.at/events/namensprojekt-metnitz-bezirk-st-veit/
END:VEVENT
END:VCALENDAR