BEGIN:VCALENDAR
VERSION:2.0
PRODID:-//eventon.com NONSGML v1.0//EN
CALSCALE:GREGORIAN
METHOD:PUBLISH
BEGIN:VEVENT
UID:69e74f8e9da35
DTSTAMP:20260421T102102Z
DTSTART:20230922T160000Z
DTEND:20230922T235000Z
LOCATION:
SUMMARY:Ein Blick auf die Ortsgeschichte in Deutsch-Griffen
DESCRIPTION:Das Kärntner Bildungswerk und die Gemeinde Deutsch-Griffen lad
 en im Rahmen des Projekts» Juwelen unserer Kulturlandschaft «zur festlich
 en Projektpräsentation: Freitag\,  22. September 2023ab 16.00 UhrGemeinde 
 Deutsch-Griffen Um die Klein- und Flurdenkmäler in ihrer Schönheit und ku
 lturellen Bedeutung ans Licht der Öffentlichkeit zu bringen\,  wurden dies
 e im Rahmen des Projekts »Juwelen unsererKulturlandschaft«[..]\nhttps://b
 ildungswerk-ktn.at/events/juwelen-deutsch-griffen/
URL:https://bildungswerk-ktn.at/events/juwelen-deutsch-griffen/
END:VEVENT
END:VCALENDAR