BEGIN:VCALENDAR
VERSION:2.0
PRODID:-//eventon.com NONSGML v1.0//EN
CALSCALE:GREGORIAN
METHOD:PUBLISH
BEGIN:VEVENT
UID:69e789074bd22
DTSTAMP:20260421T142615Z
DTSTART:20231013
DTEND:20231014
LOCATION:
SUMMARY:Namensprojekt in St. Georgen im Lavanttal (Bezirk Wolfsberg)
DESCRIPTION:Offene Ausstellung: 13. – 19. Oktober 2023 | zu den Amtszeite
 n | KultursaalNamenswerkstatt: 19. Oktober 2023 | 17 Uhr | Kultursaal Das K
 ärntner Bildungswerk setzt in Zusammenarbeit mit dem Land Kärnten (Abteil
 ung 3\,  Gemeinden\,  Raumordnung und Katastrophenschutz) das Namensprojekt
 \,  welches bereits im Bezirk Völkermarkt den Bezirken&nbsp;Klagenfurt-Lan
 d&nbsp;und&nbsp;Villach-Land durchgeführt wurde\,  folgt nun[..]\nhttps://
 bildungswerk-ktn.at/events/namensprojekt-in-st-georgen-im-lavanttal-bezirk-
 wolfsberg-2/
URL:https://bildungswerk-ktn.at/events/namensprojekt-in-st-georgen-im-lavanttal-bezirk-wolfsberg-2/
END:VEVENT
END:VCALENDAR