BEGIN:VCALENDAR
VERSION:2.0
PRODID:-//eventon.com NONSGML v1.0//EN
CALSCALE:GREGORIAN
METHOD:PUBLISH
BEGIN:VEVENT
UID:69e74a913973a
DTSTAMP:20260421T095945Z
DTSTART:20230925
DTEND:20230926
LOCATION:
SUMMARY:Namensprojekt in Bad St. Leonhard (Bezirk Wolfsberg)
DESCRIPTION:Offene Ausstellung: 25. September â€“ 3. Oktober 2023 | zu den 
 Amtszeiten | FoyerNamenswerkstatt: 3. Oktober 2023 | 17 Uhr | Sitzungssaal 
 Gemeinde Das KÃ¤rntner Bildungswerk setzt in Zusammenarbeit mit dem Land KÃ
 ¤rnten (Abteilung 3\,  Gemeinden\,  Raumordnung und Katastrophenschutz) das
  Namensprojekt\,  welches bereits im Bezirk VÃ¶lkermarkt den Bezirken&nbsp;
 Klagenfurt-Land&nbsp;und&nbsp;Villach-Land durchgefÃ¼hrt wurde\, [..]\nhttp
 s://bildungswerk-ktn.at/events/namensprojekt-in-bad-st-leonhard-bezirk-wolf
 sberg/
URL:https://bildungswerk-ktn.at/events/namensprojekt-in-bad-st-leonhard-bezirk-wolfsberg/
END:VEVENT
END:VCALENDAR