BEGIN:VCALENDAR
VERSION:2.0
PRODID:-//eventon.com NONSGML v1.0//EN
CALSCALE:GREGORIAN
METHOD:PUBLISH
BEGIN:VEVENT
UID:69e8f2a811370
DTSTAMP:20260422T160912Z
DTSTART:20260417T100000Z
DTEND:20260417T120000Z
LOCATION:
SUMMARY:Repair Café Köttmannsdorf
DESCRIPTION:Was tun mit einem wackeligen Hocker oder einem defekten Toaster
 ?&nbsp;Gemeinsam&nbsp;mit Expert:innen reparieren\,  statt wegwerfen! Freit
 ag\,  17. April 026\,  10 bis 12 UhrSitzungssaal der Gemeinde Köttmannsdor
 f REPAIR CAFÉ bedeutet…gemeinsam kaputte Dinge reparieren\,  kompetente 
 Hilfestellung\,  Begegnung und einander inspirieren! Rückfragen:Jürgen Ho
 lzbauerjuergen@prorosental.at0699 17105107\nhttps://bildungswerk-ktn.at/eve
 nts/repair-cafe-koettmannsdorf/
URL:https://bildungswerk-ktn.at/events/repair-cafe-koettmannsdorf/
END:VEVENT
END:VCALENDAR