BEGIN:VCALENDAR
VERSION:2.0
PRODID:-//eventon.com NONSGML v1.0//EN
CALSCALE:GREGORIAN
METHOD:PUBLISH
BEGIN:VEVENT
UID:69e7e04d2af5a
DTSTAMP:20260421T203837Z
DTSTART:20260919T090000Z
DTEND:20260919T180000Z
LOCATION:
SUMMARY:Ausbildung zur ehrenamtlichen Malbegleitung
DESCRIPTION:Ausbildung zur ehrenamtlichen Malbegleitung in der Kärntner Ki
 ndermalschule Samstag\,  19. September202609 Uhr - ca. 18 UhrGeschäftsstel
 le des Kärntner BildungswerksMießtaler Straße 6\,  9020 Klagenfurt In de
 r Kärntner Kindermalschule treffen sich an unterschiedlichen Standorten se
 mesterbegleitend Kinder im Alter zwischen 6 und 10/11 Jahren\,  die unter B
 egleitung und Anleitung von zwei ehrenamtlichen Malbegleiter:innen[..]\nhtt
 ps://bildungswerk-ktn.at/events/ausbildung-zur-ehrenamtlichen-malbegleitung
 -5/
URL:https://bildungswerk-ktn.at/events/ausbildung-zur-ehrenamtlichen-malbegleitung-5/
END:VEVENT
END:VCALENDAR