BEGIN:VCALENDAR
VERSION:2.0
PRODID:-//eventon.com NONSGML v1.0//EN
CALSCALE:GREGORIAN
METHOD:PUBLISH
BEGIN:VEVENT
UID:69e7def888068
DTSTAMP:20260421T203256Z
DTSTART:20260509T090000Z
DTEND:20260509T180000Z
LOCATION:
SUMMARY:Ausbildung zur ehrenamtlichen Malbegleitung
DESCRIPTION:Ausbildung zur ehrenamtlichen Malbegleitung in der Kärntner Ki
 ndermalschule Samstag\,  09. Mai 202609 Uhr - ca. 18 UhrGeschäftsstelle de
 s Kärntner BildungswerksMießtaler Straße 6\,  9020 Klagenfurt In der Kä
 rntner Kindermalschule treffen sich an unterschiedlichen Standorten semeste
 rbegleitend Kinder im Alter zwischen 6 und 10/11 Jahren\,  die unter Beglei
 tung und Anleitung von zwei ehrenamtlichen[..]\nhttps://bildungswerk-ktn.at
 /events/ausbildung-zur-ehrenamtlichen-malbegleitung-4/
URL:https://bildungswerk-ktn.at/events/ausbildung-zur-ehrenamtlichen-malbegleitung-4/
END:VEVENT
END:VCALENDAR