BEGIN:VCALENDAR
VERSION:2.0
PRODID:-//eventon.com NONSGML v1.0//EN
CALSCALE:GREGORIAN
METHOD:PUBLISH
BEGIN:VEVENT
UID:69e7dfeeebf8d
DTSTAMP:20260421T203702Z
DTSTART:20260418T090000Z
DTEND:20260418T180000Z
LOCATION:
SUMMARY:Ausbildung zur ehrenamtlichen Malbegleitung
DESCRIPTION:Ausbildung zur ehrenamtlichen Malbegleitung in der Kärntner Ki
 ndermalschule Samstag\,  18. April 202609 Uhr - ca. 18 UhrKulturhaus St. Ja
 kob (Marktstraße 7\,  9184 St. Jakob im Rosental) In der Kärntner Kinderm
 alschule treffen sich an unterschiedlichen Standorten semesterbegleitend Ki
 nder im Alter zwischen 6 und 10/11 Jahren\,  die unter Begleitung und Anlei
 tung von[..]\nhttps://bildungswerk-ktn.at/events/ausbildung-zur-ehrenamtlic
 hen-malbegleitung-3/
URL:https://bildungswerk-ktn.at/events/ausbildung-zur-ehrenamtlichen-malbegleitung-3/
END:VEVENT
END:VCALENDAR