BEGIN:VCALENDAR
VERSION:2.0
PRODID:-//eventon.com NONSGML v1.0//EN
CALSCALE:GREGORIAN
METHOD:PUBLISH
BEGIN:VEVENT
UID:69e8f3048f20d
DTSTAMP:20260422T161044Z
DTSTART:20260424T133000Z
DTEND:20260424T170000Z
LOCATION:
SUMMARY:Schieflinger Tag der Artenvielfalt
DESCRIPTION:Freitag\,  24. April 202613:30 - ca. 17:00 UhrFurtasch-Hube Sch
 iefling Programm 14:00 Uhr: 3. Schieflinger Pflanzenmarkt des Ramsarvereins
  Schieflinger RAUMNun heißt es wieder kaufen oder verkaufen\,  tauschen od
 er verschenken\,  bei Kaffee\,  Kuchen\,  Saft und Popcorn fachsimpeln! Tis
 che sind vorhanden! 14:30 Uhr: Vorstellung des Gartens und Vortrag: „Arte
 nvielfalt im Garten“Wie kann der[..]\nhttps://bildungswerk-ktn.at/events/
 schieflinger-tag-der-artenvielfalt/
URL:https://bildungswerk-ktn.at/events/schieflinger-tag-der-artenvielfalt/
END:VEVENT
END:VCALENDAR