BEGIN:VCALENDAR
VERSION:2.0
PRODID:-//eventon.com NONSGML v1.0//EN
CALSCALE:GREGORIAN
METHOD:PUBLISH
BEGIN:VEVENT
UID:69e8f375780cc
DTSTAMP:20260422T161237Z
DTSTART:20260415T173000Z
DTEND:20260415T203000Z
LOCATION:
SUMMARY:Onboarding
DESCRIPTION:für Neueinsteiger:innen auf Landes-\,  Bezirks- und Ortsebene 
 Mittwoch\,  15. April 2026\,  17.30-20.30 UhrGeschäftsstelle des Kärntner
  BildungswerksMießtaler Straße 6\,  9020 Klagenfurt Das Kärntner Bildung
 swerk ist ein Netzwerk aus hunderten ehrenamtlichen Gruppen\,  die sich fü
 r Bildung und Kultur in ihrer Gemeinde einsetzen und dabei von einem Team a
 nHauptamtlichen und Ehrenamtlichen unterstützt werden.[..]\nhttps://bildun
 gswerk-ktn.at/events/onboarding/
URL:https://bildungswerk-ktn.at/events/onboarding/
END:VEVENT
END:VCALENDAR