BEGIN:VCALENDAR
VERSION:2.0
PRODID:-//eventon.com NONSGML v1.0//EN
CALSCALE:GREGORIAN
METHOD:PUBLISH
BEGIN:VEVENT
UID:69e8f3717a88f
DTSTAMP:20260422T161233Z
DTSTART:20260413
DTEND:20260414
LOCATION:
SUMMARY:Namensprojekt in Himmelberg
DESCRIPTION:Offene Ausstellung:13. April 2026 – 20. April 2026 / zu den A
 mtszeitenGemeindeamt Sitzungssaal 1. Stock Namenswerkstatt:&nbsp;20. April 
 2026 / 9.00 – 12.00 UhrGemeindeamt Sitzungssaal 1. Stock Das Kärntner Bi
 ldungswerk setzt in Zusammenarbeit mit dem Land Kärnten (Abteilung 3\,  Ge
 meinden\,  Raumordnung und Katastrophenschutz) das Namensprojekt\,  welches
  bereits im Bezirk Völkermarkt den[..]\nhttps://bildungswerk-ktn.at/events
 /namensprojekt-in-himmelberg/
URL:https://bildungswerk-ktn.at/events/namensprojekt-in-himmelberg/
END:VEVENT
END:VCALENDAR