BEGIN:VCALENDAR
VERSION:2.0
PRODID:-//eventon.com NONSGML v1.0//EN
CALSCALE:GREGORIAN
METHOD:PUBLISH
BEGIN:VEVENT
UID:69e74a1e199eb
DTSTAMP:20260421T095750Z
DTSTART:20260502T083000Z
DTEND:20260502T235000Z
LOCATION:
SUMMARY:Trachtenwallfahrt 2026
DESCRIPTION:Bezirke Völkermarkt & Wolfsberg Samstag\,  02. Mai 202608.30 -
  ca. 13 UhrBasilika Maria Loreto St. Andrä im Lavanttal Programm 08.30 Uhr
  Eintreffen am Sammelplatz vor der BasilikaFrühstück für die Gäste von 
 den St. Andräer Trachtenfrauen & der Frauenrunde Jakling 10.00 Uhr Katholi
 scher GottesdienstDas Hochamt zelebriert: Dechant Dr. Pater Gerfried Sitar[
 ..]\nhttps://bildungswerk-ktn.at/events/trachtenwallfahrt-2026/
URL:https://bildungswerk-ktn.at/events/trachtenwallfahrt-2026/
END:VEVENT
END:VCALENDAR