BEGIN:VCALENDAR
VERSION:2.0
PRODID:-//eventon.com NONSGML v1.0//EN
CALSCALE:GREGORIAN
METHOD:PUBLISH
BEGIN:VEVENT
UID:69e9f2938eacc
DTSTAMP:20260423T102107Z
DTSTART:20260316
DTEND:20260317
LOCATION:
SUMMARY:Namensprojekt Reichenau
DESCRIPTION:Offene Ausstellung: 16. - 24. März 2026\,  zu den Öffnungszei
 tenBiosphärenpark Verwaltung Nockberge\,  Ebene Reichenau 117 Namenswerkst
 att: 27. März 2026\,  9.00 - 12.00 UhrBiosphärenpark Verwaltung Nockberg
 e\,  Ebene Reichenau 117 Das Kärntner Bildungswerk setzt in Zusammenarbeit
  mit dem Land Kärnten (Abteilung 3\,  Gemeinden\,  Raumordnung und Katastr
 ophenschutz) das Namensprojekt\,  welches bereits im Bezirk Völkermarkt[..
 ]\nhttps://bildungswerk-ktn.at/events/namensprojekt-reichenau/
URL:https://bildungswerk-ktn.at/events/namensprojekt-reichenau/
END:VEVENT
END:VCALENDAR