BEGIN:VCALENDAR
VERSION:2.0
PRODID:-//eventon.com NONSGML v1.0//EN
CALSCALE:GREGORIAN
METHOD:PUBLISH
BEGIN:VEVENT
UID:69e751e97cdbe
DTSTAMP:20260421T103105Z
DTSTART:20260316
DTEND:20260317
LOCATION:
SUMMARY:Namensprojekt in Albeck
DESCRIPTION:Offene Ausstellung: 16. - 25. März 2026\,  zu den AmtszeitenKu
 ltursaal am Kirchplatz Namenswerkstatt: 25. März 2026\,  9.00 - 12.00 Uhr
 Kultursaal am Kirchplatz Das Kärntner Bildungswerk setzt in Zusammenarbeit
  mit dem Land Kärnten (Abteilung 3\,  Gemeinden\,  Raumordnung und Katastr
 ophenschutz) das Namensprojekt\,  welches bereits im Bezirk Völkermarkt de
 n Bezirken&nbsp;Klagenfurt-Land\,  Villach-Land\,  Wolfsberg und Spittal[..
 ]\nhttps://bildungswerk-ktn.at/events/namensprojekt-albeck/
URL:https://bildungswerk-ktn.at/events/namensprojekt-albeck/
END:VEVENT
END:VCALENDAR