BEGIN:VCALENDAR
VERSION:2.0
PRODID:-//eventon.com NONSGML v1.0//EN
CALSCALE:GREGORIAN
METHOD:PUBLISH
BEGIN:VEVENT
UID:69e8f3d4c0896
DTSTAMP:20260422T161412Z
DTSTART:20261107T090000Z
DTEND:20261107T120000Z
LOCATION:
SUMMARY:Repair Café Wolfsberg
DESCRIPTION:Was tun mit einem wackeligen Hocker oder einem defekten Toaster
 ?&nbsp;Gemeinsam&nbsp;mit Experten*innen reparieren\,  statt wegwerfen! Sam
 stag\,  07. November 2026\,  09:00 – 12:00 UhrJugendzentrum WolfsbergKirc
 hbichlstraße 2a\,  9400 Wolfsberg REPAIR CAFÉ bedeutet…gemeinsam kaputt
 e Dinge reparieren\,  kompetente Hilfestellung\,  Begegnung und einander in
 spirieren! MIT DABEI:&nbsp;ErklärBarHier werden Erklärungen zu Ihren Frag
 en zur digitalen Welt gefunden!&nbsp;\nhttps://bildungswerk-ktn.at/events/r
 epair-cafe-wolfsberg-15/
URL:https://bildungswerk-ktn.at/events/repair-cafe-wolfsberg-15/
END:VEVENT
END:VCALENDAR