BEGIN:VCALENDAR
VERSION:2.0
PRODID:-//eventon.com NONSGML v1.0//EN
CALSCALE:GREGORIAN
METHOD:PUBLISH
BEGIN:VEVENT
UID:69e74ac50289e
DTSTAMP:20260421T100037Z
DTSTART:20260309T173000Z
DTEND:20260309T203000Z
LOCATION:
SUMMARY:Künstliche Intelligenz für den Alltag - Ein interaktiver Workshop
DESCRIPTION:Montag\,  09. März 202617.30 – 20.30 UhrKarolinger Saal (Fel
 dkirchnerstr. 2)9062 Moosburg Im Workshop lernen Sie Grundlagen und praktis
 che Anwendungen von Künstlicher Intelligenz im Alltag kennen. Neben der Vo
 rstellung von verschiedenen KI-Tools\,  wie Textbearbeitung\,  Bildgenerati
 on usw.\,  erproben Sie diese durch lebensnahe Übungen und gemeinsames Ler
 nen. Die Referentin\,  Birgit Kandutsch\,  ist erfahrene[..]\nhttps://bildu
 ngswerk-ktn.at/events/kunstliche-intelligenz-moosburg2/
URL:https://bildungswerk-ktn.at/events/kunstliche-intelligenz-moosburg2/
END:VEVENT
END:VCALENDAR