BEGIN:VCALENDAR
VERSION:2.0
PRODID:-//eventon.com NONSGML v1.0//EN
CALSCALE:GREGORIAN
METHOD:PUBLISH
BEGIN:VEVENT
UID:69e8f345b1ec1
DTSTAMP:20260422T161149Z
DTSTART:20260905T090000Z
DTEND:20260905T120000Z
LOCATION:
SUMMARY:Repair Café Wolfsberg
DESCRIPTION:Was tun mit einem wackeligen Hocker oder einem defekten Toaster
 ?&nbsp;Gemeinsam&nbsp;mit Experten*innen reparieren\,  statt wegwerfen! Sam
 stag\,  05. September 2026\,  09:00 – 12:00 UhrKUKUMA – Kunst- und Kuli
 narik MarktHoher Platz REPAIR CAFÉ bedeutet…gemeinsam kaputte Dinge repa
 rieren\,  kompetente Hilfestellung\,  Begegnung und einander inspirieren! M
 IT DABEI:&nbsp;ErklärBarHier werden Erklärungen zu Ihren Fragen zur digit
 alen Welt[..]\nhttps://bildungswerk-ktn.at/events/repair-cafe-wolfsberg-14/
URL:https://bildungswerk-ktn.at/events/repair-cafe-wolfsberg-14/
END:VEVENT
END:VCALENDAR