BEGIN:VCALENDAR
VERSION:2.0
PRODID:-//eventon.com NONSGML v1.0//EN
CALSCALE:GREGORIAN
METHOD:PUBLISH
BEGIN:VEVENT
UID:69e5ff1d02502
DTSTAMP:20260420T102533Z
DTSTART:20260613T090000Z
DTEND:20260613T120000Z
LOCATION:
SUMMARY:Repair Café Wolfsberg
DESCRIPTION:Was tun mit einem wackeligen Hocker oder einem defekten Toaster
 ?&nbsp;Gemeinsam&nbsp;mit Experten*innen reparieren\,  statt wegwerfen! Sam
 stag\,  13. Juni 2026\,  09:00 – 12:00 UhrKUKUMA – Kunst- und Kulinarik
  MarktHoher Platz REPAIR CAFÉ bedeutet…gemeinsam kaputte Dinge repariere
 n\,  kompetente Hilfestellung\,  Begegnung und einander inspirieren! MIT DA
 BEI:&nbsp;ErklärBarHier werden Erklärungen zu Ihren Fragen zur digitalen 
 Welt[..]\nhttps://bildungswerk-ktn.at/events/repair-cafe-wolfsberg-13/
URL:https://bildungswerk-ktn.at/events/repair-cafe-wolfsberg-13/
END:VEVENT
END:VCALENDAR