BEGIN:VCALENDAR
VERSION:2.0
PRODID:-//eventon.com NONSGML v1.0//EN
CALSCALE:GREGORIAN
METHOD:PUBLISH
BEGIN:VEVENT
UID:69e9f35c52eef
DTSTAMP:20260423T102428Z
DTSTART:20260220T150000Z
DTEND:20260220T170000Z
LOCATION:
SUMMARY:Repair Café Ferlach
DESCRIPTION:Was tun mit einem wackeligen Hocker oder einem defekten Toaster
 ?&nbsp;Gemeinsam&nbsp;mit Expert:innen reparieren\,  statt wegwerfen! Freit
 ag\,  20. Februar 2026\,  15- 17 UhrÖGB-Raum (neben dem Lift\,  2. Stock) 
 REPAIR CAFÉ bedeutet…gemeinsam kaputte Dinge reparieren\,  kompetente Hi
 lfestellung\,  Begegnung und einander inspirieren! Rückfragen:Jürgen Holz
 bauerjuergen@prorosental.at0699 17105107\nhttps://bildungswerk-ktn.at/event
 s/repair-cafe-ferlach-6/
URL:https://bildungswerk-ktn.at/events/repair-cafe-ferlach-6/
END:VEVENT
END:VCALENDAR