BEGIN:VCALENDAR
VERSION:2.0
PRODID:-//eventon.com NONSGML v1.0//EN
CALSCALE:GREGORIAN
METHOD:PUBLISH
BEGIN:VEVENT
UID:69e74a680b6ec
DTSTAMP:20260421T095904Z
DTSTART:20260220T160000Z
DTEND:20260220T200000Z
LOCATION:
SUMMARY:Klimapuzzle
DESCRIPTION:Freitag\,  20. Februar 2026\,  16-20 UhrGemeindezentrum Viktrin
 g In diesem interaktiven Workshop beschäftigen wir uns mit Ursachen und Fo
 lgen der Klimakrise. Auf Basis wissenschaftlicher Erkenntnisse machen wir m
 it 42 Karten komplexe Zusammenhänge spielerisch\,  kreativ und im Dialog e
 rfahrbar. Neben Fakten ist auch Raum für Emotionen und persönliche Fragen
 : Du bist mit[..]\nhttps://bildungswerk-ktn.at/events/klimapuzzle/
URL:https://bildungswerk-ktn.at/events/klimapuzzle/
END:VEVENT
END:VCALENDAR