BEGIN:VCALENDAR
VERSION:2.0
PRODID:-//eventon.com NONSGML v1.0//EN
CALSCALE:GREGORIAN
METHOD:PUBLISH
BEGIN:VEVENT
UID:69e9f3a481e41
DTSTAMP:20260423T102540Z
DTSTART:20260219T173000Z
DTEND:20260219T203000Z
LOCATION:
SUMMARY:Künstliche Intelligenz für den Alltag - Ein interaktiver Workshop
DESCRIPTION:Donnerstag\,  19. Februar 202617.30 – 20.30 UhrKarolinger Saa
 l (Feldkirchnerstr. 2)9062 Moosburg Im Workshop lernen Sie Grundlagen und p
 raktische Anwendungen von Künstlicher Intelligenz im Alltag kennen. Neben 
 der Vorstellung von verschiedenen KI-Tools\,  wie Textbearbeitung\,  Bildge
 neration usw.\,  erproben Sie diese durch lebensnahe Übungen und gemeinsam
 es Lernen. Die Referentin\,  Birgit Kandutsch\,  ist erfahrene[..]\nhttps:/
 /bildungswerk-ktn.at/events/kuenstliche-intelligenz-moosburg/
URL:https://bildungswerk-ktn.at/events/kuenstliche-intelligenz-moosburg/
END:VEVENT
END:VCALENDAR