BEGIN:VCALENDAR
VERSION:2.0
PRODID:-//eventon.com NONSGML v1.0//EN
CALSCALE:GREGORIAN
METHOD:PUBLISH
BEGIN:VEVENT
UID:69e766ca8d444
DTSTAMP:20260421T120010Z
DTSTART:20260207T090000Z
DTEND:20260208T120000Z
LOCATION:
SUMMARY:Stimmen im Einklang
DESCRIPTION:Samstag\,  07. Februar bis Sonntag\,  08. Februar 2026Volksmusi
 kakademie Lesachtal9653 Liesing 15 Das Kursangebot „Miteinander Singen“
  richtet sich alle Sänger:innen\,  die sich stimmlich und musikalisch weit
 erentwickeln wollen. Unter der professionellen Anleitung von Nataliya Lukin
 a wird dabei intensiv das chorische Singen gefördert. Begleitend werden de
 n Sänger:innen in der Gruppenstimmbildung nachhaltige Möglichkeiten der[.
 .]\nhttps://bildungswerk-ktn.at/events/stimmen-im-einklang/
URL:https://bildungswerk-ktn.at/events/stimmen-im-einklang/
END:VEVENT
END:VCALENDAR