BEGIN:VCALENDAR
VERSION:2.0
PRODID:-//eventon.com NONSGML v1.0//EN
CALSCALE:GREGORIAN
METHOD:PUBLISH
BEGIN:VEVENT
UID:69e8f25446e12
DTSTAMP:20260422T160748Z
DTSTART:20261114T090000Z
DTEND:20261114T120000Z
LOCATION:
SUMMARY:Repair Café Hermagor
DESCRIPTION:Was tun mit einem wackeligen Hocker oder einem defekten Toaster
 ?&nbsp;Gemeinsam&nbsp;mit Expert:innen reparieren\,  statt wegwerfen! Samst
 ag\,  14. November 2026\,  09 - 12 UhrRathaus HermagorWulfeniaplatz 1\,  96
 20 Hermagor REPAIR CAFÉ bedeutet…gemeinsam kaputte Dinge reparieren\,  k
 ompetente Hilfestellung\,  Begegnung und einander inspirieren! Rückfragen:
  Örtliches Bildungswerk Hermagorbw-hermagor@bildungswerk-ktn.at0660 763028
 4\nhttps://bildungswerk-ktn.at/events/repair-cafe-hermagor-10/
URL:https://bildungswerk-ktn.at/events/repair-cafe-hermagor-10/
END:VEVENT
END:VCALENDAR