BEGIN:VCALENDAR
VERSION:2.0
PRODID:-//eventon.com NONSGML v1.0//EN
CALSCALE:GREGORIAN
METHOD:PUBLISH
BEGIN:VEVENT
UID:69e8f2accc65f
DTSTAMP:20260422T160916Z
DTSTART:20260912T090000Z
DTEND:20260912T120000Z
LOCATION:
SUMMARY:Repair Café Hermagor
DESCRIPTION:Was tun mit einem wackeligen Hocker oder einem defekten Toaster
 ?&nbsp;Gemeinsam&nbsp;mit Expert:innen reparieren\,  statt wegwerfen! Samst
 ag\,  12. September 2026\,  09 - 12 UhrRathaus HermagorWulfeniaplatz 1\,  9
 620 Hermagor REPAIR CAFÉ bedeutet…gemeinsam kaputte Dinge reparieren\,  
 kompetente Hilfestellung\,  Begegnung und einander inspirieren! Rückfragen
 : Örtliches Bildungswerk Hermagorbw-hermagor@bildungswerk-ktn.at0660 76302
 84\nhttps://bildungswerk-ktn.at/events/repair-cafe-hermagor-9/
URL:https://bildungswerk-ktn.at/events/repair-cafe-hermagor-9/
END:VEVENT
END:VCALENDAR