BEGIN:VCALENDAR
VERSION:2.0
PRODID:-//eventon.com NONSGML v1.0//EN
CALSCALE:GREGORIAN
METHOD:PUBLISH
BEGIN:VEVENT
UID:69e8f252ac89a
DTSTAMP:20260422T160746Z
DTSTART:20260509T090000Z
DTEND:20260509T120000Z
LOCATION:
SUMMARY:Repair Café Hermagor
DESCRIPTION:Was tun mit einem wackeligen Hocker oder einem defekten Toaster
 ?&nbsp;Gemeinsam&nbsp;mit Expert:innen reparieren\,  statt wegwerfen! Samst
 ag\,  09. Mai 2026\,  09 - 12 UhrRathaus HermagorWulfeniaplatz 1\,  9620 He
 rmagor REPAIR CAFÉ bedeutet…gemeinsam kaputte Dinge reparieren\,  kompet
 ente Hilfestellung\,  Begegnung und einander inspirieren! Rückfragen: Ört
 liches Bildungswerk Hermagorbw-hermagor@bildungswerk-ktn.at0660 7630284\nht
 tps://bildungswerk-ktn.at/events/repair-cafe-hermagor-8/
URL:https://bildungswerk-ktn.at/events/repair-cafe-hermagor-8/
END:VEVENT
END:VCALENDAR