BEGIN:VCALENDAR
VERSION:2.0
PRODID:-//eventon.com NONSGML v1.0//EN
CALSCALE:GREGORIAN
METHOD:PUBLISH
BEGIN:VEVENT
UID:69e753f63b4fc
DTSTAMP:20260421T103950Z
DTSTART:20260228T090000Z
DTEND:20260228T120000Z
LOCATION:
SUMMARY:Repair Café Hermagor
DESCRIPTION:Was tun mit einem wackeligen Hocker oder einem defekten Toaster
 ? Gemeinsam mit Expert:innen reparieren\,  statt wegwerfen! Samstag\,  28
 . Februar 2026\,  09 - 12 UhrRathaus HermagorWulfeniaplatz 1\,  9620 Hermag
 or REPAIR CAFÉ bedeutet…gemeinsam kaputte Dinge reparieren\,  kompetente
  Hilfestellung\,  Begegnung und einander inspirieren! Rückfragen: Örtlich
 es Bildungswerk Hermagorbw-hermagor@bildungswerk-ktn.at0660 7630284\nhttps:
 //bildungswerk-ktn.at/events/repair-cafe-hermagor-7/
URL:https://bildungswerk-ktn.at/events/repair-cafe-hermagor-7/
END:VEVENT
END:VCALENDAR