BEGIN:VCALENDAR
VERSION:2.0
PRODID:-//eventon.com NONSGML v1.0//EN
CALSCALE:GREGORIAN
METHOD:PUBLISH
BEGIN:VEVENT
UID:69e74b25bd009
DTSTAMP:20260421T100213Z
DTSTART:20251217T150000Z
DTEND:20251217T235900Z
LOCATION:
SUMMARY:Opernfahrt: Rigoletto
DESCRIPTION:Oper von Francesco Maria Piave und Giuseppe Verdi Mittwoch\,  1
 7. Dezember 2025Opernhaus Graz Dreiecksgeschichten aus Sopran\,  Tenor und 
 Bariton bilden das Grundschema der Oper der Romantik. So auch im Rigoletto\
 ,  der zudem ein besonders drastisches Beispiel von Machmissbrauch\,  Willk
 ür und Abhängigkeiten an einem italienischen Rennaissancehof darstellt. E
 ine eindringliche Warnung für[..]\nhttps://bildungswerk-ktn.at/events/oper
 nfahrt-rigoletto/
URL:https://bildungswerk-ktn.at/events/opernfahrt-rigoletto/
END:VEVENT
END:VCALENDAR