BEGIN:VCALENDAR
VERSION:2.0
PRODID:-//eventon.com NONSGML v1.0//EN
CALSCALE:GREGORIAN
METHOD:PUBLISH
BEGIN:VEVENT
UID:69e5ff1813e9e
DTSTAMP:20260420T102528Z
DTSTART:20251110T180000Z
DTEND:20251110T235900Z
LOCATION:
SUMMARY:Opernfahrt: Die Jungfrau von Orleans
DESCRIPTION:Oper in vier Akten\,  Libretto und Musik von Pjotr I. Tschaikow
 ski Montag\,  10. November 2025Opernhaus Laibach REISEPASS NICHT VERGESSEN!
  Eine Rarität aus dem Opernschaffen Tschaikowskis wird in der neuen Spielz
 eit vom Opernhaus Laibach dargeboten. Seine Jungfrau von Orleans wurde 1881
  uraufgeführt. Sie enthält wunderschöne Arien\,  mächtige Chorszenen un
 d äußerst expressive[..]\nhttps://bildungswerk-ktn.at/events/opernfahrt-d
 ie-jungfrau-von-orleans/
URL:https://bildungswerk-ktn.at/events/opernfahrt-die-jungfrau-von-orleans/
END:VEVENT
END:VCALENDAR