BEGIN:VCALENDAR
VERSION:2.0
PRODID:-//eventon.com NONSGML v1.0//EN
CALSCALE:GREGORIAN
METHOD:PUBLISH
BEGIN:VEVENT
UID:69e6047648fd0
DTSTAMP:20260420T104822Z
DTSTART:20251122T090000Z
DTEND:20251122T133000Z
LOCATION:
SUMMARY:Vereinsakademie on Tour - GALLIZIEN
DESCRIPTION:Ihr aller ehrenamtliches Engagement ist wesentliches Kapital ei
 nes auf sozialen Zusammenhalt basierendes\,  vielfältiges und geselliges G
 emeindeleben. Um Sie und Ihren Verein bestmöglich bei Ihren Vereinstätigk
 eiten zu unterstützen\,  bietet die Gemeinde Gallizien in Kooperation mit 
 dem Örtlichen Bildungswerk Gallizien und dem Kärntner Bildungswerk ein ko
 stenloses Angebot für Vereine aller Alt aus[..]\nhttps://bildungswerk-ktn.
 at/events/vereinsakademie-gallizien/
URL:https://bildungswerk-ktn.at/events/vereinsakademie-gallizien/
END:VEVENT
END:VCALENDAR