BEGIN:VCALENDAR
VERSION:2.0
PRODID:-//eventon.com NONSGML v1.0//EN
CALSCALE:GREGORIAN
METHOD:PUBLISH
BEGIN:VEVENT
UID:69e74a5d99fc4
DTSTAMP:20260421T095853Z
DTSTART:20250923T170000Z
DTEND:20250923T200000Z
LOCATION:
SUMMARY:Mein digitales Amt - ID Austria
DESCRIPTION:Dienstag\,  23. September 202517.00 - 20.00 UhrGemeindeamt Hohe
 nthurnDraschitz 33\,  9613 Hohenthurn Im Workshop werden wichtigste Begriff
 e in Zusammenhang mit E-Government und unterschiedliche Plattformen\,  wie 
 JustizOnline\,  FinanzOnline\,  Meine SV\,  Transparenzportal usw. vorgeste
 llt. Gemeinsam mit dem Referenten Stefan Wogrin\,  erfahrener Trainer im Be
 reich E-Government\,  erproben Sie praktisch die eigene Voranmeldung bei ID
 -Austria.[..]\nhttps://bildungswerk-ktn.at/events/mein-digitales-amt-hohent
 hurn/
URL:https://bildungswerk-ktn.at/events/mein-digitales-amt-hohenthurn/
END:VEVENT
END:VCALENDAR