BEGIN:VCALENDAR
VERSION:2.0
PRODID:-//eventon.com NONSGML v1.0//EN
CALSCALE:GREGORIAN
METHOD:PUBLISH
BEGIN:VEVENT
UID:69e5ff1aeffb4
DTSTAMP:20260420T102530Z
DTSTART:20251024T160000Z
DTEND:20251024T200000Z
LOCATION:
SUMMARY:KI-WERKSTATT - Künstliche Intelligenz für dich und mich
DESCRIPTION:24.10. | 30.10. | 14.11. - jeweils von 16 bis 20 UhrHotel “Al
 te Post” Gasthof Gostilna Trattoria9613 Feistritz an der Gail 19 Diese in
 teraktiv gestaltete Workshopreihe vermittelt grundlegende Kenntnisse im Umg
 ang mit Digitalisierung und Künstlicher Intelligenz (KI) und beinhaltet ei
 ne Mischung aus Vorträgen\,  praktischen Übungen\,  Gruppenarbeiten und R
 eflexionsphasen. Besonders Wert[..]\nhttps://bildungswerk-ktn.at/events/ki-
 werkstatt-feistritz/
URL:https://bildungswerk-ktn.at/events/ki-werkstatt-feistritz/
END:VEVENT
END:VCALENDAR