BEGIN:VCALENDAR
VERSION:2.0
PRODID:-//eventon.com NONSGML v1.0//EN
CALSCALE:GREGORIAN
METHOD:PUBLISH
BEGIN:VEVENT
UID:69e778eb53d3e
DTSTAMP:20260421T131731Z
DTSTART:20250524T100000Z
DTEND:20250524T170000Z
LOCATION:
SUMMARY:Tag der offenen Tür Naturgarten Silan
DESCRIPTION:Samstag\,  24. Mai 202510.00 - 17.00 UhrNaturgarten/Naravni vrt
 Silan\,  9143 Lettenstätten/Letina 30 Bei Schlechtwetter findet die Verans
 taltung einen Tag später statt! Programm 10.30 - 11.30 Uhr VORTRAG„Das A
  und O des igel- und insektenfreundlichen Naturgartens“ mit Dr. Heidemari
 e Pirker\,  Natur im Garten/Kärntner BildungswerkWas brauchen Igel\,  Wild
 bienen und Schmetterlinge wirklich? Wie kann[..]\nhttps://bildungswerk-ktn.
 at/events/tag-der-offenen-tuer-naturgarten-silan/
URL:https://bildungswerk-ktn.at/events/tag-der-offenen-tuer-naturgarten-silan/
END:VEVENT
END:VCALENDAR