BEGIN:VCALENDAR
VERSION:2.0
PRODID:-//eventon.com NONSGML v1.0//EN
CALSCALE:GREGORIAN
METHOD:PUBLISH
BEGIN:VEVENT
UID:69e769e5b47ee
DTSTAMP:20260421T121325Z
DTSTART:20250319T180000Z
DTEND:20250319T235000Z
LOCATION:
SUMMARY:Informations- & Austauschtreffen
DESCRIPTION:Mittwoch\,  19. März 2025\,  18 UhrGasthof Postwirt in Seebode
 n Liebe Obfrau\, liebe Mitglieder der Trachtengruppen! Wir möchten Sie und
  eine Abordnung Ihres Vereines hiermit sehr herzlich zu einem Informations-
  und Austauschtreffen der Trachtengruppen im Bezirk Spittal einladen. Wir w
 erden über aktuelle Projekte des Kärntner Bildungswerks informieren und f
 reuen uns auf Berichte[..]\nhttps://bildungswerk-ktn.at/events/austauschtre
 ffen-trachtengruppen-spittal/
URL:https://bildungswerk-ktn.at/events/austauschtreffen-trachtengruppen-spittal/
END:VEVENT
END:VCALENDAR