BEGIN:VCALENDAR
VERSION:2.0
PRODID:-//eventon.com NONSGML v1.0//EN
CALSCALE:GREGORIAN
METHOD:PUBLISH
BEGIN:VEVENT
UID:69e5fefe2edee
DTSTAMP:20260420T102502Z
DTSTART:20250326T140000Z
DTEND:20250326T190000Z
LOCATION:
SUMMARY:Vereinsakademie in Pörtschach am Wörther See
DESCRIPTION:Ihr aller ehrenamtliches Engagement ist wesentliches Kapital ei
 nes auf sozialen Zusammenhalt basierendes\,  vielfältiges und geselliges G
 emeindeleben. Um Sie und Ihren Verein bestmöglich bei Ihren Vereinstätigk
 eiten zu unterstützen\,  bietet die Gemeinde Pörtschach am Wörther See i
 n Kooperation mit dem Kärntner Bildungswerk ein kostenloses Angebot für V
 ereine aller Alt aus der Umgebung.[..]\nhttps://bildungswerk-ktn.at/events/
 vereinsakademie-poertschach/
URL:https://bildungswerk-ktn.at/events/vereinsakademie-poertschach/
END:VEVENT
END:VCALENDAR